Package: scDblFinder Version: 1.18.0 Command: /Library/Frameworks/R.framework/Resources/bin/R CMD INSTALL scDblFinder StartedAt: 2024-10-16 16:37:38 -0400 (Wed, 16 Oct 2024) EndedAt: 2024-10-16 16:39:16 -0400 (Wed, 16 Oct 2024) EllapsedTime: 98.0 seconds RetCode: 0 Status: OK