Package: scDblFinder Version: 1.18.0 Command: rm -rf scDblFinder.buildbin-libdir && mkdir scDblFinder.buildbin-libdir && /Users/biocbuild/BBS/utils/build-universal.sh scDblFinder_1.18.0.tar.gz /Library/Frameworks/R.framework/Resources/bin/R scDblFinder.buildbin-libdir StartedAt: 2024-10-17 17:06:59 -0400 (Thu, 17 Oct 2024) EndedAt: 2024-10-17 17:08:45 -0400 (Thu, 17 Oct 2024) EllapsedTime: 105.4 seconds RetCode: 0 Status: OK PackageFile: scDblFinder_1.18.0.tgz PackageFileSize: 2.418 MiB