Package: scDblFinder Version: 1.18.0 Command: /Library/Frameworks/R.framework/Resources/bin/R CMD INSTALL scDblFinder StartedAt: 2024-06-09 15:40:05 -0400 (Sun, 09 Jun 2024) EndedAt: 2024-06-09 15:41:01 -0400 (Sun, 09 Jun 2024) EllapsedTime: 55.9 seconds RetCode: 0 Status: OK