Package: scDataviz Version: 1.14.0 Command: E:\biocbuild\bbs-3.19-bioc\R\bin\R.exe CMD INSTALL scDataviz StartedAt: 2024-10-16 17:04:23 -0400 (Wed, 16 Oct 2024) EndedAt: 2024-10-16 17:05:08 -0400 (Wed, 16 Oct 2024) EllapsedTime: 45.5 seconds RetCode: 0 Status: OK