Package: scDataviz Version: 1.14.0 Command: /home/biocbuild/bbs-3.19-bioc/R/bin/R CMD build --keep-empty-dirs --no-resave-data scDataviz StartedAt: 2024-10-16 20:39:15 -0400 (Wed, 16 Oct 2024) EndedAt: 2024-10-16 20:43:19 -0400 (Wed, 16 Oct 2024) EllapsedTime: 243.4 seconds RetCode: 0 Status: OK PackageFile: scDataviz_1.14.0.tar.gz PackageFileSize: 7.56 MiB