Package: scDataviz Version: 1.14.0 Command: rm -rf scDataviz.buildbin-libdir && mkdir scDataviz.buildbin-libdir && /Users/biocbuild/BBS/utils/build-universal.sh scDataviz_1.14.0.tar.gz /Library/Frameworks/R.framework/Resources/bin/R scDataviz.buildbin-libdir StartedAt: 2024-06-11 13:04:21 -0400 (Tue, 11 Jun 2024) EndedAt: 2024-06-11 13:05:47 -0400 (Tue, 11 Jun 2024) EllapsedTime: 85.8 seconds RetCode: 0 Status: OK PackageFile: scDataviz_1.14.0.tgz PackageFileSize: 5.978 MiB