Package: scDDboost Version: 1.6.0 Command: /home/biocbuild/bbs-3.19-bioc/R/bin/R CMD INSTALL scDDboost StartedAt: 2024-10-16 16:26:21 -0400 (Wed, 16 Oct 2024) EndedAt: 2024-10-16 16:27:20 -0400 (Wed, 16 Oct 2024) EllapsedTime: 58.2 seconds RetCode: 0 Status: OK