Package: scDDboost Version: 1.6.0 Command: /home/biocbuild/bbs-3.19-bioc/R/bin/R CMD build --keep-empty-dirs --no-resave-data scDDboost StartedAt: 2024-10-16 20:39:24 -0400 (Wed, 16 Oct 2024) EndedAt: 2024-10-16 20:40:57 -0400 (Wed, 16 Oct 2024) EllapsedTime: 93.2 seconds RetCode: 0 Status: OK PackageFile: scDDboost_1.6.0.tar.gz PackageFileSize: 790 KiB