Package: scDDboost Version: 1.6.0 Command: /Library/Frameworks/R.framework/Resources/bin/R CMD build --keep-empty-dirs --no-resave-data scDDboost StartedAt: 2024-10-16 22:57:41 -0400 (Wed, 16 Oct 2024) EndedAt: 2024-10-16 23:01:55 -0400 (Wed, 16 Oct 2024) EllapsedTime: 254.0 seconds RetCode: 0 Status: OK PackageFile: scDDboost_1.6.0.tar.gz PackageFileSize: 857.5 KiB