Package: scClassify Version: 1.16.0 Command: /Library/Frameworks/R.framework/Resources/bin/R CMD INSTALL scClassify StartedAt: 2024-10-16 16:28:09 -0400 (Wed, 16 Oct 2024) EndedAt: 2024-10-16 16:29:31 -0400 (Wed, 16 Oct 2024) EllapsedTime: 82.2 seconds RetCode: 0 Status: OK