Package: scCB2 Version: 1.14.0 Command: E:\biocbuild\bbs-3.19-bioc\R\bin\R.exe CMD check --no-multiarch --install=check:scCB2.install-out.txt --library=E:\biocbuild\bbs-3.19-bioc\R\library --no-vignettes --timings scCB2_1.14.0.tar.gz StartedAt: 2024-10-17 05:25:10 -0400 (Thu, 17 Oct 2024) EndedAt: 2024-10-17 05:33:26 -0400 (Thu, 17 Oct 2024) EllapsedTime: 496.1 seconds RetCode: 0 Status: OK CheckDir: scCB2.Rcheck Warnings: 0