Package: scCB2 Version: 1.14.0 Command: chmod a+r scCB2 -R && E:\biocbuild\bbs-3.19-bioc\R\bin\R.exe CMD build --keep-empty-dirs --no-resave-data scCB2 StartedAt: 2024-10-16 21:43:56 -0400 (Wed, 16 Oct 2024) EndedAt: 2024-10-16 21:49:36 -0400 (Wed, 16 Oct 2024) EllapsedTime: 339.7 seconds RetCode: 0 Status: OK PackageFile: scCB2_1.14.0.tar.gz PackageFileSize: 847.2 KiB