Package: scCB2 Version: 1.14.0 Command: rm -rf scCB2.buildbin-libdir && mkdir scCB2.buildbin-libdir && E:\biocbuild\bbs-3.19-bioc\R\bin\R.exe CMD INSTALL --build --library=scCB2.buildbin-libdir scCB2_1.14.0.tar.gz StartedAt: 2024-10-17 08:34:41 -0400 (Thu, 17 Oct 2024) EndedAt: 2024-10-17 08:35:29 -0400 (Thu, 17 Oct 2024) EllapsedTime: 47.7 seconds RetCode: 0 Status: OK PackageFile: scCB2_1.14.0.zip PackageFileSize: 894.7 KiB