Package: scCB2 Version: 1.14.0 Command: rm -rf scCB2.buildbin-libdir && mkdir scCB2.buildbin-libdir && F:\biocbuild\bbs-3.19-bioc\R\bin\R.exe CMD INSTALL --build --library=scCB2.buildbin-libdir scCB2_1.14.0.tar.gz StartedAt: 2024-06-27 08:52:01 -0400 (Thu, 27 Jun 2024) EndedAt: 2024-06-27 08:52:59 -0400 (Thu, 27 Jun 2024) EllapsedTime: 57.4 seconds RetCode: 0 Status: OK PackageFile: scCB2_1.14.0.zip PackageFileSize: 894.5 KiB