Package: scCB2 Version: 1.14.0 Command: /Library/Frameworks/R.framework/Resources/bin/R CMD build --keep-empty-dirs --no-resave-data scCB2 StartedAt: 2024-10-16 22:56:48 -0400 (Wed, 16 Oct 2024) EndedAt: 2024-10-16 23:06:56 -0400 (Wed, 16 Oct 2024) EllapsedTime: 607.9 seconds RetCode: 0 Status: OK PackageFile: scCB2_1.14.0.tar.gz PackageFileSize: 847.1 KiB