Package: scCB2 Version: 1.14.0 Maintainer: Zijian Ni MaintainerEmail: zni25 at wisc.edu git_url: https://git.bioconductor.org/packages/scCB2 git_branch: RELEASE_3_19 git_last_commit: 805db9e git_last_commit_date: 2024-04-30 11:25:13 -0400 (Tue, 30 Apr 2024)