Package: scBubbletree Version: 1.6.0 Command: rm -rf scBubbletree.buildbin-libdir && mkdir scBubbletree.buildbin-libdir && F:\biocbuild\bbs-3.19-bioc\R\bin\R.exe CMD INSTALL --build --library=scBubbletree.buildbin-libdir scBubbletree_1.6.0.tar.gz StartedAt: 2024-06-27 08:51:59 -0400 (Thu, 27 Jun 2024) EndedAt: 2024-06-27 08:52:28 -0400 (Thu, 27 Jun 2024) EllapsedTime: 29.0 seconds RetCode: 0 Status: OK PackageFile: scBubbletree_1.6.0.zip PackageFileSize: 1.988 MiB