Package: scBubbletree Version: 1.6.0 Command: /home/biocbuild/bbs-3.19-bioc/R/bin/R CMD build --keep-empty-dirs --no-resave-data scBubbletree StartedAt: 2024-10-16 20:38:43 -0400 (Wed, 16 Oct 2024) EndedAt: 2024-10-16 20:43:08 -0400 (Wed, 16 Oct 2024) EllapsedTime: 265.5 seconds RetCode: 0 Status: OK PackageFile: scBubbletree_1.6.0.tar.gz PackageFileSize: 2.129 MiB