Package: scBubbletree Version: 1.6.0 Command: /Library/Frameworks/R.framework/Resources/bin/R CMD INSTALL scBubbletree StartedAt: 2024-06-09 15:31:50 -0400 (Sun, 09 Jun 2024) EndedAt: 2024-06-09 15:32:15 -0400 (Sun, 09 Jun 2024) EllapsedTime: 25.3 seconds RetCode: 0 Status: OK