Package: scBubbletree Version: 1.6.0 Command: /Library/Frameworks/R.framework/Resources/bin/R CMD INSTALL scBubbletree StartedAt: 2024-06-09 16:55:52 -0400 (Sun, 09 Jun 2024) EndedAt: 2024-06-09 16:56:18 -0400 (Sun, 09 Jun 2024) EllapsedTime: 26.4 seconds RetCode: 0 Status: OK