Package: scBubbletree Version: 1.6.0 Command: /Library/Frameworks/R.framework/Resources/bin/R CMD INSTALL scBubbletree StartedAt: 2024-10-16 17:57:50 -0400 (Wed, 16 Oct 2024) EndedAt: 2024-10-16 17:58:11 -0400 (Wed, 16 Oct 2024) EllapsedTime: 21.0 seconds RetCode: 0 Status: OK