Package: scBubbletree Version: 1.6.0 Maintainer: Simo Kitanovski MaintainerEmail: simokitanovski at gmail.com git_url: https://git.bioconductor.org/packages/scBubbletree git_branch: RELEASE_3_19 git_last_commit: 1efa88b git_last_commit_date: 2024-04-30 11:44:58 -0400 (Tue, 30 Apr 2024)