Package: scBFA Version: 1.18.0 Command: /home/biocbuild/bbs-3.19-bioc/R/bin/R CMD build --keep-empty-dirs --no-resave-data scBFA StartedAt: 2024-10-16 20:38:29 -0400 (Wed, 16 Oct 2024) EndedAt: 2024-10-16 20:39:39 -0400 (Wed, 16 Oct 2024) EllapsedTime: 70.1 seconds RetCode: 0 Status: OK PackageFile: scBFA_1.18.0.tar.gz PackageFileSize: 1.138 MiB