Package: satuRn Version: 1.12.0 Command: E:\biocbuild\bbs-3.19-bioc\R\bin\R.exe CMD check --no-multiarch --install=check:satuRn.install-out.txt --library=E:\biocbuild\bbs-3.19-bioc\R\library --no-vignettes --timings satuRn_1.12.0.tar.gz StartedAt: 2024-10-17 05:21:56 -0400 (Thu, 17 Oct 2024) EndedAt: 2024-10-17 05:25:37 -0400 (Thu, 17 Oct 2024) EllapsedTime: 221.2 seconds RetCode: 0 Status: OK CheckDir: satuRn.Rcheck Warnings: 0