Package: satuRn Version: 1.12.0 Command: chmod a+r satuRn -R && E:\biocbuild\bbs-3.19-bioc\R\bin\R.exe CMD build --keep-empty-dirs --no-resave-data satuRn StartedAt: 2024-10-16 21:41:39 -0400 (Wed, 16 Oct 2024) EndedAt: 2024-10-16 21:43:09 -0400 (Wed, 16 Oct 2024) EllapsedTime: 90.2 seconds RetCode: 0 Status: OK PackageFile: satuRn_1.12.0.tar.gz PackageFileSize: 3.174 MiB