Package: satuRn Version: 1.12.0 Command: /Library/Frameworks/R.framework/Resources/bin/R CMD build --keep-empty-dirs --no-resave-data satuRn StartedAt: 2024-10-16 22:52:15 -0400 (Wed, 16 Oct 2024) EndedAt: 2024-10-16 22:54:05 -0400 (Wed, 16 Oct 2024) EllapsedTime: 110.2 seconds RetCode: 1 Status: ERROR PackageFile: None PackageFileSize: NA