Package: satuRn Version: 1.12.0 Command: rm -rf satuRn.buildbin-libdir && mkdir satuRn.buildbin-libdir && /Users/biocbuild/BBS/utils/build-universal.sh satuRn_1.12.0.tar.gz /Library/Frameworks/R.framework/Resources/bin/R satuRn.buildbin-libdir StartedAt: 2024-10-15 20:05:04 -0400 (Tue, 15 Oct 2024) EndedAt: 2024-10-15 20:05:40 -0400 (Tue, 15 Oct 2024) EllapsedTime: 35.5 seconds RetCode: 0 Status: OK PackageFile: satuRn_1.12.0.tgz PackageFileSize: 3.746 MiB