Package: satuRn Version: 1.12.0 Maintainer: Jeroen Gilis MaintainerEmail: jeroen.gilis at ugent.be git_url: https://git.bioconductor.org/packages/satuRn git_branch: RELEASE_3_19 git_last_commit: ad41ea3 git_last_commit_date: 2024-04-30 11:31:19 -0400 (Tue, 30 Apr 2024)