Package: sarks Version: 1.16.0 Command: /home/biocbuild/bbs-3.19-bioc/R/bin/R CMD build --keep-empty-dirs --no-resave-data sarks StartedAt: 2024-10-16 20:36:21 -0400 (Wed, 16 Oct 2024) EndedAt: 2024-10-16 20:36:43 -0400 (Wed, 16 Oct 2024) EllapsedTime: 22.1 seconds RetCode: 0 Status: OK PackageFile: sarks_1.16.0.tar.gz PackageFileSize: 448.8 KiB