Package: sarks Version: 1.16.0 Command: /Library/Frameworks/R.framework/Resources/bin/R CMD check --install=check:sarks.install-out.txt --library=/Library/Frameworks/R.framework/Resources/library --no-vignettes --timings sarks_1.16.0.tar.gz StartedAt: 2024-10-18 10:45:49 -0400 (Fri, 18 Oct 2024) EndedAt: 2024-10-18 10:47:35 -0400 (Fri, 18 Oct 2024) EllapsedTime: 105.4 seconds RetCode: 0 Status: OK CheckDir: sarks.Rcheck Warnings: 0