Package: sangerseqR Version: 1.40.0 Command: E:\biocbuild\bbs-3.19-bioc\R\bin\R.exe CMD check --no-multiarch --install=check:sangerseqR.install-out.txt --library=E:\biocbuild\bbs-3.19-bioc\R\library --no-vignettes --timings sangerseqR_1.40.0.tar.gz StartedAt: 2024-10-17 05:21:14 -0400 (Thu, 17 Oct 2024) EndedAt: 2024-10-17 05:23:34 -0400 (Thu, 17 Oct 2024) EllapsedTime: 139.3 seconds RetCode: 0 Status: OK CheckDir: sangerseqR.Rcheck Warnings: 0