Package: sangerseqR Version: 1.40.0 Command: rm -rf sangerseqR.buildbin-libdir && mkdir sangerseqR.buildbin-libdir && F:\biocbuild\bbs-3.19-bioc\R\bin\R.exe CMD INSTALL --build --library=sangerseqR.buildbin-libdir sangerseqR_1.40.0.tar.gz StartedAt: 2024-06-27 08:51:13 -0400 (Thu, 27 Jun 2024) EndedAt: 2024-06-27 08:51:41 -0400 (Thu, 27 Jun 2024) EllapsedTime: 28.7 seconds RetCode: 0 Status: OK PackageFile: sangerseqR_1.40.0.zip PackageFileSize: 1.865 MiB