Package: sangerseqR Version: 1.40.0 Command: /Library/Frameworks/R.framework/Resources/bin/R CMD INSTALL sangerseqR StartedAt: 2024-10-16 16:03:02 -0400 (Wed, 16 Oct 2024) EndedAt: 2024-10-16 16:03:35 -0400 (Wed, 16 Oct 2024) EllapsedTime: 33.4 seconds RetCode: 0 Status: OK