Package: sangerseqR Version: 1.40.0 Command: /Library/Frameworks/R.framework/Resources/bin/R CMD check --install=check:sangerseqR.install-out.txt --library=/Library/Frameworks/R.framework/Resources/library --no-vignettes --timings sangerseqR_1.40.0.tar.gz StartedAt: 2024-10-17 12:24:47 -0400 (Thu, 17 Oct 2024) EndedAt: 2024-10-17 12:29:58 -0400 (Thu, 17 Oct 2024) EllapsedTime: 310.9 seconds RetCode: 0 Status: OK CheckDir: sangerseqR.Rcheck Warnings: 0