Package: sangerseqR Version: 1.40.0 Command: rm -rf sangerseqR.buildbin-libdir && mkdir sangerseqR.buildbin-libdir && /Users/biocbuild/BBS/utils/build-universal.sh sangerseqR_1.40.0.tar.gz /Library/Frameworks/R.framework/Resources/bin/R sangerseqR.buildbin-libdir StartedAt: 2024-06-10 00:37:26 -0400 (Mon, 10 Jun 2024) EndedAt: 2024-06-10 00:37:48 -0400 (Mon, 10 Jun 2024) EllapsedTime: 21.3 seconds RetCode: 0 Status: OK PackageFile: sangerseqR_1.40.0.tgz PackageFileSize: 3.155 MiB