Package: sangerseqR Version: 1.40.0 Command: /Library/Frameworks/R.framework/Resources/bin/R CMD build --keep-empty-dirs --no-resave-data sangerseqR StartedAt: 2024-06-10 03:55:51 -0400 (Mon, 10 Jun 2024) EndedAt: 2024-06-10 03:56:47 -0400 (Mon, 10 Jun 2024) EllapsedTime: 56.3 seconds RetCode: 0 Status: OK PackageFile: sangerseqR_1.40.0.tar.gz PackageFileSize: 2.934 MiB