Package: sangerseqR Version: 1.40.0 Command: /Library/Frameworks/R.framework/Resources/bin/R CMD INSTALL sangerseqR StartedAt: 2024-10-16 17:29:00 -0400 (Wed, 16 Oct 2024) EndedAt: 2024-10-16 17:29:15 -0400 (Wed, 16 Oct 2024) EllapsedTime: 16.0 seconds RetCode: 0 Status: OK