Package: sangeranalyseR Version: 1.14.0 Command: rm -rf sangeranalyseR.buildbin-libdir && mkdir sangeranalyseR.buildbin-libdir && E:\biocbuild\bbs-3.19-bioc\R\bin\R.exe CMD INSTALL --build --library=sangeranalyseR.buildbin-libdir sangeranalyseR_1.14.0.tar.gz StartedAt: 2024-10-17 08:33:38 -0400 (Thu, 17 Oct 2024) EndedAt: 2024-10-17 08:36:51 -0400 (Thu, 17 Oct 2024) EllapsedTime: 192.3 seconds RetCode: 0 Status: OK PackageFile: sangeranalyseR_1.14.0.zip PackageFileSize: 5.783 MiB