Package: sangeranalyseR Version: 1.14.0 Command: chmod a+r sangeranalyseR -R && F:\biocbuild\bbs-3.19-bioc\R\bin\R.exe CMD build --keep-empty-dirs --no-resave-data sangeranalyseR StartedAt: 2024-06-26 21:36:49 -0400 (Wed, 26 Jun 2024) EndedAt: 2024-06-26 21:37:59 -0400 (Wed, 26 Jun 2024) EllapsedTime: 69.9 seconds RetCode: 0 Status: OK PackageFile: sangeranalyseR_1.14.0.tar.gz PackageFileSize: 38.15 MiB