Package: sangeranalyseR Version: 1.14.0 Command: /Library/Frameworks/R.framework/Resources/bin/R CMD build --keep-empty-dirs --no-resave-data sangeranalyseR StartedAt: 2024-10-16 22:51:07 -0400 (Wed, 16 Oct 2024) EndedAt: 2024-10-16 22:52:44 -0400 (Wed, 16 Oct 2024) EllapsedTime: 97.1 seconds RetCode: 0 Status: OK PackageFile: sangeranalyseR_1.14.0.tar.gz PackageFileSize: 38.16 MiB