Package: sangeranalyseR Version: 1.14.0 Command: rm -rf sangeranalyseR.buildbin-libdir && mkdir sangeranalyseR.buildbin-libdir && /Users/biocbuild/BBS/utils/build-universal.sh sangeranalyseR_1.14.0.tar.gz /Library/Frameworks/R.framework/Resources/bin/R sangeranalyseR.buildbin-libdir StartedAt: 2024-10-17 17:05:28 -0400 (Thu, 17 Oct 2024) EndedAt: 2024-10-17 17:06:36 -0400 (Thu, 17 Oct 2024) EllapsedTime: 67.8 seconds RetCode: 0 Status: OK PackageFile: sangeranalyseR_1.14.0.tgz PackageFileSize: 5.779 MiB