Package: sangeranalyseR Version: 1.14.0 Command: /Library/Frameworks/R.framework/Resources/bin/R CMD build --keep-empty-dirs --no-resave-data sangeranalyseR StartedAt: 2024-10-17 08:13:07 -0400 (Thu, 17 Oct 2024) EndedAt: 2024-10-17 08:13:57 -0400 (Thu, 17 Oct 2024) EllapsedTime: 49.4 seconds RetCode: 0 Status: OK PackageFile: sangeranalyseR_1.14.0.tar.gz PackageFileSize: 38.16 MiB