Package: sampleClassifier Version: 1.28.0 Command: E:\biocbuild\bbs-3.19-bioc\R\bin\R.exe CMD INSTALL sampleClassifier StartedAt: 2024-10-16 16:38:11 -0400 (Wed, 16 Oct 2024) EndedAt: 2024-10-16 16:38:32 -0400 (Wed, 16 Oct 2024) EllapsedTime: 20.9 seconds RetCode: 0 Status: OK