Package: sampleClassifier Version: 1.28.0 Command: E:\biocbuild\bbs-3.19-bioc\R\bin\R.exe CMD check --no-multiarch --install=check:sampleClassifier.install-out.txt --library=E:\biocbuild\bbs-3.19-bioc\R\library --no-vignettes --timings sampleClassifier_1.28.0.tar.gz StartedAt: 2024-10-17 05:20:28 -0400 (Thu, 17 Oct 2024) EndedAt: 2024-10-17 05:25:34 -0400 (Thu, 17 Oct 2024) EllapsedTime: 306.0 seconds RetCode: 0 Status: OK CheckDir: sampleClassifier.Rcheck Warnings: 0