Package: sampleClassifier Version: 1.28.0 Command: chmod a+r sampleClassifier -R && E:\biocbuild\bbs-3.19-bioc\R\bin\R.exe CMD build --keep-empty-dirs --no-resave-data sampleClassifier StartedAt: 2024-10-16 21:41:03 -0400 (Wed, 16 Oct 2024) EndedAt: 2024-10-16 21:44:15 -0400 (Wed, 16 Oct 2024) EllapsedTime: 191.8 seconds RetCode: 0 Status: OK PackageFile: sampleClassifier_1.28.0.tar.gz PackageFileSize: 238.5 KiB