Package: sampleClassifier Version: 1.28.0 Command: rm -rf sampleClassifier.buildbin-libdir && mkdir sampleClassifier.buildbin-libdir && E:\biocbuild\bbs-3.19-bioc\R\bin\R.exe CMD INSTALL --build --library=sampleClassifier.buildbin-libdir sampleClassifier_1.28.0.tar.gz StartedAt: 2024-10-17 08:33:33 -0400 (Thu, 17 Oct 2024) EndedAt: 2024-10-17 08:33:58 -0400 (Thu, 17 Oct 2024) EllapsedTime: 24.9 seconds RetCode: 0 Status: OK PackageFile: sampleClassifier_1.28.0.zip PackageFileSize: 273.7 KiB