Package: sampleClassifier Version: 1.28.0 Command: /Library/Frameworks/R.framework/Resources/bin/R CMD check --install=check:sampleClassifier.install-out.txt --library=/Library/Frameworks/R.framework/Resources/library --no-vignettes --timings sampleClassifier_1.28.0.tar.gz StartedAt: 2024-10-17 12:22:32 -0400 (Thu, 17 Oct 2024) EndedAt: 2024-10-17 12:32:04 -0400 (Thu, 17 Oct 2024) EllapsedTime: 572.0 seconds RetCode: 0 Status: OK CheckDir: sampleClassifier.Rcheck Warnings: 0