Package: sampleClassifier Version: 1.28.0 Command: rm -rf sampleClassifier.buildbin-libdir && mkdir sampleClassifier.buildbin-libdir && /Users/biocbuild/BBS/utils/build-universal.sh sampleClassifier_1.28.0.tar.gz /Library/Frameworks/R.framework/Resources/bin/R sampleClassifier.buildbin-libdir StartedAt: 2024-06-11 13:00:55 -0400 (Tue, 11 Jun 2024) EndedAt: 2024-06-11 13:01:28 -0400 (Tue, 11 Jun 2024) EllapsedTime: 33.4 seconds RetCode: 0 Status: OK PackageFile: sampleClassifier_1.28.0.tgz PackageFileSize: 270.4 KiB