Package: sampleClassifier Version: 1.28.0 Command: /Library/Frameworks/R.framework/Resources/bin/R CMD check --install=check:sampleClassifier.install-out.txt --library=/Library/Frameworks/R.framework/Resources/library --no-vignettes --timings sampleClassifier_1.28.0.tar.gz StartedAt: 2024-10-18 10:43:59 -0400 (Fri, 18 Oct 2024) EndedAt: 2024-10-18 10:48:51 -0400 (Fri, 18 Oct 2024) EllapsedTime: 292.7 seconds RetCode: 0 Status: OK CheckDir: sampleClassifier.Rcheck Warnings: 0