Package: sampleClassifier Version: 1.28.0 Command: /Library/Frameworks/R.framework/Resources/bin/R CMD build --keep-empty-dirs --no-resave-data sampleClassifier StartedAt: 2024-10-17 08:12:12 -0400 (Thu, 17 Oct 2024) EndedAt: 2024-10-17 08:15:03 -0400 (Thu, 17 Oct 2024) EllapsedTime: 171.6 seconds RetCode: 0 Status: OK PackageFile: sampleClassifier_1.28.0.tar.gz PackageFileSize: 238.9 KiB